BEGIN:VCALENDAR
VERSION:2.0
PRODID:-//Instituto de Estudios Ecologistas del Tercer Mundo - ECPv6.15.20//NONSGML v1.0//EN
CALSCALE:GREGORIAN
METHOD:PUBLISH
X-WR-CALNAME:Instituto de Estudios Ecologistas del Tercer Mundo
X-ORIGINAL-URL:https://www.estudiosecologistas.org
X-WR-CALDESC:Eventos para Instituto de Estudios Ecologistas del Tercer Mundo
REFRESH-INTERVAL;VALUE=DURATION:PT1H
X-Robots-Tag:noindex
X-PUBLISHED-TTL:PT1H
BEGIN:VTIMEZONE
TZID:America/Guayaquil
BEGIN:STANDARD
TZOFFSETFROM:-0500
TZOFFSETTO:-0500
TZNAME:-05
DTSTART:20230101T000000
END:STANDARD
END:VTIMEZONE
BEGIN:VEVENT
DTSTART;TZID=America/Guayaquil:20240509T153000
DTEND;TZID=America/Guayaquil:20240509T175000
DTSTAMP:20260423T233657
CREATED:20240504T122544Z
LAST-MODIFIED:20240504T122544Z
UID:13083-1715268600-1715277000@www.estudiosecologistas.org
SUMMARY:Diálogo NO MÁS ZONAS DE SACRIFICIO
DESCRIPTION:El Ecuador vive una situación de vulneración sistemática de los derechos humanos de su población\, especialmente de aquella que sufre pobreza y pobreza extrema.  A la falta de garantías básicas de los derechos a la vida\, la libertad y el debido proceso de las personas\, se suma otra de progresivo y acentuado deterioro del nivel de satisfacción de los derechos económicos\, sociales\, ambientales y culturales de la población. En los últimos años\, se puede observar un deterioro intenso de los principales indicadores sociales que no ha encontrado respuestas adecuadas desde los sucesivos gobiernos. Al contrario\, se han promovido políticas que benefician a élites locales y actores transnacionales que amenazan los derechos de las poblaciones más vulnerables\, impulsando el extractivismo sin garantizar el derecho de consulta e información adecuada de la ciudadanía. Por lo cual\, exigimos que en la presente coyuntura electoral se brinden definiciones precisas por parte de las organizaciones políticas y sus binomios sobre asuntos que han sido velados del debate nacional y que requieren respuestas urgentes. Las organizaciones sociales y de Derechos Humanos exigimos a la autoridad electoral que sean consideradas en el debate nacional y obligatorio a realizarse el próximo 19 de enero de 2025 Ver carta:CARTA ABIERTA a los binomios presidenciales (1)
URL:https://www.estudiosecologistas.org/event/eventos/
LOCATION:Flacso\, FLACSO (Diego de Almagro\, Quito 170201)\, Mesa 18\, Aula 106\, Quito\, Ecuador
CATEGORIES:Derechos de la Naturaleza,Extractivismos y post extractivismos
ATTACH;FMTTYPE=image/jpeg:https://www.estudiosecologistas.org/wp-content/uploads/2024/05/foro-2-5.jpg
END:VEVENT
END:VCALENDAR