BEGIN:VCALENDAR
VERSION:2.0
PRODID:-//Instituto de Estudios Ecologistas del Tercer Mundo - ECPv6.15.20//NONSGML v1.0//EN
CALSCALE:GREGORIAN
METHOD:PUBLISH
X-ORIGINAL-URL:https://www.estudiosecologistas.org
X-WR-CALDESC:Eventos para Instituto de Estudios Ecologistas del Tercer Mundo
REFRESH-INTERVAL;VALUE=DURATION:PT1H
X-Robots-Tag:noindex
X-PUBLISHED-TTL:PT1H
BEGIN:VTIMEZONE
TZID:America/Guayaquil
BEGIN:STANDARD
TZOFFSETFROM:-0500
TZOFFSETTO:-0500
TZNAME:-05
DTSTART:20230101T000000
END:STANDARD
END:VTIMEZONE
BEGIN:VEVENT
DTSTART;VALUE=DATE:20241008
DTEND;VALUE=DATE:20250118
DTSTAMP:20260423T124042
CREATED:20250117T143421Z
LAST-MODIFIED:20250117T170055Z
UID:13148-1728345600-1737158399@www.estudiosecologistas.org
SUMMARY:GIRAS ECOLOGISTAS 2024
DESCRIPTION:El Ecuador vive una situación de vulneración sistemática de los derechos humanos de su población\, especialmente de aquella que sufre pobreza y pobreza extrema.  A la falta de garantías básicas de los derechos a la vida\, la libertad y el debido proceso de las personas\, se suma otra de progresivo y acentuado deterioro del nivel de satisfacción de los derechos económicos\, sociales\, ambientales y culturales de la población. En los últimos años\, se puede observar un deterioro intenso de los principales indicadores sociales que no ha encontrado respuestas adecuadas desde los sucesivos gobiernos. Al contrario\, se han promovido políticas que benefician a élites locales y actores transnacionales que amenazan los derechos de las poblaciones más vulnerables\, impulsando el extractivismo sin garantizar el derecho de consulta e información adecuada de la ciudadanía. Por lo cual\, exigimos que en la presente coyuntura electoral se brinden definiciones precisas por parte de las organizaciones políticas y sus binomios sobre asuntos que han sido velados del debate nacional y que requieren respuestas urgentes. Las organizaciones sociales y de Derechos Humanos exigimos a la autoridad electoral que sean consideradas en el debate nacional y obligatorio a realizarse el próximo 19 de enero de 2025 Ver carta:CARTA ABIERTA a los binomios presidenciales (1)
URL:https://www.estudiosecologistas.org/event/giras-ecologistas-2024/
CATEGORIES:Derechos de la Naturaleza,Extractivismos y post extractivismos,Resignificar la Transición
ATTACH;FMTTYPE=application/pdf:https://www.estudiosecologistas.org/wp-content/uploads/2025/01/AficheCorregido.pdf
END:VEVENT
BEGIN:VEVENT
DTSTART;VALUE=DATE:20241204
DTEND;VALUE=DATE:20250119
DTSTAMP:20260423T124043
CREATED:20250118T121425Z
LAST-MODIFIED:20250118T121425Z
UID:13188-1733270400-1737244799@www.estudiosecologistas.org
SUMMARY:V CLEP: CELEBRANDO 25 AÑOS DE LA ECOLOGÍA POLÍTICA LATINOAMERICANA
DESCRIPTION:El Ecuador vive una situación de vulneración sistemática de los derechos humanos de su población\, especialmente de aquella que sufre pobreza y pobreza extrema.  A la falta de garantías básicas de los derechos a la vida\, la libertad y el debido proceso de las personas\, se suma otra de progresivo y acentuado deterioro del nivel de satisfacción de los derechos económicos\, sociales\, ambientales y culturales de la población. En los últimos años\, se puede observar un deterioro intenso de los principales indicadores sociales que no ha encontrado respuestas adecuadas desde los sucesivos gobiernos. Al contrario\, se han promovido políticas que benefician a élites locales y actores transnacionales que amenazan los derechos de las poblaciones más vulnerables\, impulsando el extractivismo sin garantizar el derecho de consulta e información adecuada de la ciudadanía. Por lo cual\, exigimos que en la presente coyuntura electoral se brinden definiciones precisas por parte de las organizaciones políticas y sus binomios sobre asuntos que han sido velados del debate nacional y que requieren respuestas urgentes. Las organizaciones sociales y de Derechos Humanos exigimos a la autoridad electoral que sean consideradas en el debate nacional y obligatorio a realizarse el próximo 19 de enero de 2025 Ver carta:CARTA ABIERTA a los binomios presidenciales (1)
URL:https://www.estudiosecologistas.org/event/v-clep-celebrando-25-anos-de-la-ecologia-politica-latinoamericana/
CATEGORIES:Derechos de la Naturaleza,Extractivismos y post extractivismos,Feminismos y territorios,Historia Ecológica,Justicia socioecológica y financiera,Resignificar la Transición
ATTACH;FMTTYPE=image/webp:https://www.estudiosecologistas.org/wp-content/uploads/2025/01/congreso-a9d951c0.webp
END:VEVENT
BEGIN:VEVENT
DTSTART;VALUE=DATE:20250118
DTEND;VALUE=DATE:20250119
DTSTAMP:20260423T124043
CREATED:20250118T122416Z
LAST-MODIFIED:20250122T183808Z
UID:13193-1737158400-1737244799@www.estudiosecologistas.org
SUMMARY:Organizaciones sociales del Ecuador exigen a los binomios presidenciales pronunciarse frente a temas cruciales que afectan la protección y garantía de los derechos humanos\, colectivos y de la naturaleza en el Ecuador
DESCRIPTION:El Ecuador vive una situación de vulneración sistemática de los derechos humanos de su población\, especialmente de aquella que sufre pobreza y pobreza extrema.  A la falta de garantías básicas de los derechos a la vida\, la libertad y el debido proceso de las personas\, se suma otra de progresivo y acentuado deterioro del nivel de satisfacción de los derechos económicos\, sociales\, ambientales y culturales de la población. En los últimos años\, se puede observar un deterioro intenso de los principales indicadores sociales que no ha encontrado respuestas adecuadas desde los sucesivos gobiernos. Al contrario\, se han promovido políticas que benefician a élites locales y actores transnacionales que amenazan los derechos de las poblaciones más vulnerables\, impulsando el extractivismo sin garantizar el derecho de consulta e información adecuada de la ciudadanía. Por lo cual\, exigimos que en la presente coyuntura electoral se brinden definiciones precisas por parte de las organizaciones políticas y sus binomios sobre asuntos que han sido velados del debate nacional y que requieren respuestas urgentes. Las organizaciones sociales y de Derechos Humanos exigimos a la autoridad electoral que sean consideradas en el debate nacional y obligatorio a realizarse el próximo 19 de enero de 2025 Ver carta:CARTA ABIERTA a los binomios presidenciales (1)
URL:https://www.estudiosecologistas.org/event/organizaciones-sociales-del-ecuador-exigen-a-los-binomios-presidenciales-pronunciarse-frente-a-temas-cruciales-que-afectan-la-proteccion-y-garantia-de-los-derechos-humanos-colectivos-y-de-la-naturale/
CATEGORIES:Derechos de la Naturaleza
ATTACH;FMTTYPE=image/png:https://www.estudiosecologistas.org/wp-content/uploads/2025/01/Captura-de-pantalla-2025-01-20-a-las-6.47.31 a.-m.png
END:VEVENT
END:VCALENDAR